BEGIN:VCALENDAR
VERSION:2.0
PRODID:-//The Exchange District BIZ - ECPv6.15.20//NONSGML v1.0//EN
CALSCALE:GREGORIAN
METHOD:PUBLISH
X-ORIGINAL-URL:https://exchangedistrict.org
X-WR-CALDESC:Events for The Exchange District BIZ
REFRESH-INTERVAL;VALUE=DURATION:PT1H
X-Robots-Tag:noindex
X-PUBLISHED-TTL:PT1H
BEGIN:VTIMEZONE
TZID:America/Winnipeg
BEGIN:DAYLIGHT
TZOFFSETFROM:-0600
TZOFFSETTO:-0500
TZNAME:CDT
DTSTART:20240310T080000
END:DAYLIGHT
BEGIN:STANDARD
TZOFFSETFROM:-0500
TZOFFSETTO:-0600
TZNAME:CST
DTSTART:20241103T070000
END:STANDARD
BEGIN:DAYLIGHT
TZOFFSETFROM:-0600
TZOFFSETTO:-0500
TZNAME:CDT
DTSTART:20250309T080000
END:DAYLIGHT
BEGIN:STANDARD
TZOFFSETFROM:-0500
TZOFFSETTO:-0600
TZNAME:CST
DTSTART:20251102T070000
END:STANDARD
BEGIN:DAYLIGHT
TZOFFSETFROM:-0600
TZOFFSETTO:-0500
TZNAME:CDT
DTSTART:20260308T080000
END:DAYLIGHT
BEGIN:STANDARD
TZOFFSETFROM:-0500
TZOFFSETTO:-0600
TZNAME:CST
DTSTART:20261101T070000
END:STANDARD
END:VTIMEZONE
BEGIN:VEVENT
DTSTART;VALUE=DATE:20251125
DTEND;VALUE=DATE:20251225
DTSTAMP:20260423T144406
CREATED:20251007T143421Z
LAST-MODIFIED:20251007T143421Z
UID:122988-1764028800-1766620799@exchangedistrict.org
SUMMARY:Elf – The Musical
DESCRIPTION:“An effervescent antidote to the chaos of the holiday season” – Intermission Magazine \nBursting with holiday spirit\, joyful song and boundless cheer\, Elf – The Musical is the gift we all need this Christmas. \nBuddy the elf is happy\, big-hearted and larger than life. Buddy is also larger than the other elves\, which makes sense when it’s revealed he’s actually human. Gobsmacked by this discovery\, Buddy sets off in search of the World’s Greatest Dad. When he arrives in New York\, the irrepressible elf is disappointed to find out his human dad is far from the world’s greatest anything. Undaunted by a series of misadventures\, Buddy sings his way into the lives and hearts of his new family and friends.
URL:https://exchangedistrict.org/event/elf-the-musical/
LOCATION:174 Market Avenue\, 174 Market Avenue\, Winnipeg\, R3B 0T9
CATEGORIES:Performing Arts
GEO:49.8984832;-97.13675
X-APPLE-STRUCTURED-LOCATION;VALUE=URI;X-ADDRESS=174 Market Avenue 174 Market Avenue Winnipeg R3B 0T9;X-APPLE-RADIUS=500;X-TITLE=174 Market Avenue:geo:-97.13675,49.8984832
END:VEVENT
BEGIN:VEVENT
DTSTART;TZID=America/Winnipeg:20251204T080000
DTEND;TZID=America/Winnipeg:20251220T170000
DTSTAMP:20260423T144406
CREATED:20251203T184917Z
LAST-MODIFIED:20251203T184917Z
UID:161432-1764835200-1766250000@exchangedistrict.org
SUMMARY:Holiday Group Exhibition and Sale at Soul Gallery
DESCRIPTION:From December 4-20\, celebrate the holiday season at Soul Gallery with a festive group exhibition and 12% off artworks by participating artists. Join us for a special holiday event Saturday\, December 13\, with live music\, refreshments\, and local artists in attendance.
URL:https://exchangedistrict.org/event/holiday-group-exhibition-and-sale-at-soul-gallery/
LOCATION:65 Albert St\, Albert Street\, Winnipeg\, Manitoba\, R3B 1G3\, Canada
CATEGORIES:Exhibit
ATTACH;FMTTYPE=image/jpeg:https://exchangedistrict.org/wp-content/uploads/2025/12/IMG_4277-scaled.jpg
ORGANIZER;CN="Soul Gallery":MAILTO:julie.soulgallery@gmail.com
GEO:49.8966328;-97.1401178
X-APPLE-STRUCTURED-LOCATION;VALUE=URI;X-ADDRESS=65 Albert St Albert Street Winnipeg Manitoba R3B 1G3 Canada;X-APPLE-RADIUS=500;X-TITLE=Albert Street:geo:-97.1401178,49.8966328
END:VEVENT
END:VCALENDAR