BEGIN:VCALENDAR
VERSION:2.0
PRODID:-//The Exchange District BIZ - ECPv6.15.20//NONSGML v1.0//EN
CALSCALE:GREGORIAN
METHOD:PUBLISH
X-ORIGINAL-URL:https://exchangedistrict.org
X-WR-CALDESC:Events for The Exchange District BIZ
REFRESH-INTERVAL;VALUE=DURATION:PT1H
X-Robots-Tag:noindex
X-PUBLISHED-TTL:PT1H
BEGIN:VTIMEZONE
TZID:America/Winnipeg
BEGIN:DAYLIGHT
TZOFFSETFROM:-0600
TZOFFSETTO:-0500
TZNAME:CDT
DTSTART:20250309T080000
END:DAYLIGHT
BEGIN:STANDARD
TZOFFSETFROM:-0500
TZOFFSETTO:-0600
TZNAME:CST
DTSTART:20251102T070000
END:STANDARD
BEGIN:DAYLIGHT
TZOFFSETFROM:-0600
TZOFFSETTO:-0500
TZNAME:CDT
DTSTART:20260308T080000
END:DAYLIGHT
BEGIN:STANDARD
TZOFFSETFROM:-0500
TZOFFSETTO:-0600
TZNAME:CST
DTSTART:20261101T070000
END:STANDARD
BEGIN:DAYLIGHT
TZOFFSETFROM:-0600
TZOFFSETTO:-0500
TZNAME:CDT
DTSTART:20270314T080000
END:DAYLIGHT
BEGIN:STANDARD
TZOFFSETFROM:-0500
TZOFFSETTO:-0600
TZNAME:CST
DTSTART:20271107T070000
END:STANDARD
END:VTIMEZONE
BEGIN:VEVENT
DTSTART;VALUE=DATE:20260218
DTEND;VALUE=DATE:20260315
DTSTAMP:20260423T075313
CREATED:20251007T144948Z
LAST-MODIFIED:20251007T144948Z
UID:123001-1771372800-1773532799@exchangedistrict.org
SUMMARY:Rovers v. Rogers
DESCRIPTION:“If you’ve got a vision\, never give up control.” – Ted Rogers \nA David vs. Goliath story for a new age\, Rogers v. Rogers examines the merits of fighting back\, the cost of ambition\, and the complicated legacy of love and defiance in the shadow of power. \nTelecom tycoon Ted Rogers spent a lifetime turning Canada’s airwaves into money — and a company into a virtual monopoly. Now his son Edward is fighting to take control of the family empire. At the same time\, a wily public servant is determined to block a billion-dollar merger. Ambition\, defiance and public interest collide in a battle of wills.
URL:https://exchangedistrict.org/event/rovers-v-rogers/
LOCATION:174 Market Avenue\, 174 Market Avenue\, Winnipeg\, R3B 0T9
CATEGORIES:Performing Arts
ATTACH;FMTTYPE=image/jpeg:https://exchangedistrict.org/wp-content/uploads/2025/10/RMTC_Carosel-3_RogerVsRoger_1200x1200_v2.jpg
GEO:49.8984832;-97.13675
X-APPLE-STRUCTURED-LOCATION;VALUE=URI;X-ADDRESS=174 Market Avenue 174 Market Avenue Winnipeg R3B 0T9;X-APPLE-RADIUS=500;X-TITLE=174 Market Avenue:geo:-97.13675,49.8984832
END:VEVENT
BEGIN:VEVENT
DTSTART;TZID=America/Winnipeg:20260306T100000
DTEND;TZID=America/Winnipeg:20260404T160000
DTSTAMP:20260423T075313
CREATED:20260112T201207Z
LAST-MODIFIED:20260112T201207Z
UID:163832-1772791200-1775318400@exchangedistrict.org
SUMMARY:Soulful Seasons: Transitions of Change\, Solo Exhibition by Jordan Miller
DESCRIPTION:Soulful Seasons: Transitions of Change\, March 6 – April 4\, 2026\n210 Gallery\, 210 Princess St\, Winnipeg\, MB\nExhibition Hours:\nMarch 6: 10am to 9pm\nMarch 7 to April 4\, 10 am to 4pm Tuesday to Friday; Saturday 12-5pm.\nGood Friday\, April 3: 6-9pm (closed during daytime hours)\nWebsite:\nExhibitions | 210 Gallery\nArtist Statement\nReaching deep on an emotional level\, striving to create art infused with soul and beauty\, the works presented in this exhibition resonate beyond the surface idea of abstracted landscapes. This process has become an essential part of my artistic identity\, grounded in the exploration of emotion\, connection\, and reflection.\nEach piece unfolds through the layering of multiple alcohol ink colour blends\, manipulated through droplets\, brushes\, knives\, and other tools\, revealing complexity and harmony. The final layer\, featuring carefully and randomly placed lines and dots in acrylic\, suggests a journey that is more controlled than the flow of ink in the layers below\, while following the path presented. The dots move rhythmically across the surface like steps on a life map\, representing the paths we walk\, the choices we make\, and the passage of time.\nThe act of applying each dot is both deliberate and meditative\, a process that bridges the visual and the introspective. Working on these pieces reflects a moment of contemplation\, an opportunity to process the truths in the news\, in life\, and in my health journey. Each piece translates into something tangible\, luminous\, and deeply human.\nMy artwork continues to evolve as life around me changes. The big shifts that unfolded in 2025 have brought new perspectives\, adventures\, and moments to process\, each one finding its way into the work as it grows and transforms.\nJordan Miller\, a Winnipeg artist\, graduated with a Bachelor of Fine Arts degree from the University of Manitoba in 2002. She holds a diploma in Arts and Cultural Management from the University of Winnipeg. She was the founder and owner of cre8ery gallery & studio for 18.5 years before closing May 1\, 2025 to become a full-time artist and part time art mentor.\n​\n​She was the recipient of the 35th Annual Woman of Distinction Award\, in the Arts Category (2011) and she was one of three finalists for the Future Leaders Of Manitoba Awards (2015).\n​\n​Jordan has exhibited at Pulse Gallery\, Birchwood Art Gallery\, Fleet Galleries\, cre8ery\, Gallery Lacosse\, Urban Shaman Gallery\, Gallery 111\, outworks\, Gallery of Southwestern Manitoba Gift Shop\, Gallery in the Park\, Prairie Fusion\, Gallery 210\, and Golden Prairie Arts Council.\n​\n​She is a member of Manitoba Society of Artists\, Creative Manitoba\, Manitoba Arts Network\, Artists AccessAbility Network Manitoba (and board member) and Mentoring Art for Women’s Art (MAWA). She is collected across Canada\, the United States and in several countries around the world.  She is collected by the Province of Manitoba and by Winnipeg incorporated businesses.
URL:https://exchangedistrict.org/event/soulful-seasons-transitions-of-change-solo-exhibition-by-jordan-miller/2026-03-06/
LOCATION:210 Gallery\, 210 Princess Street\, Winnipeg\, R3B1L4
ATTACH;FMTTYPE=image/jpeg:https://exchangedistrict.org/wp-content/uploads/2026/01/SMALL_Fall-Sliding-in-Stage-Right.jpg
ORGANIZER;CN="210 Gallery":MAILTO:marketing@mbartsnet.ca
GEO:49.9016079;-97.1401088
X-APPLE-STRUCTURED-LOCATION;VALUE=URI;X-ADDRESS=210 Gallery 210 Princess Street Winnipeg R3B1L4;X-APPLE-RADIUS=500;X-TITLE=210 Princess Street:geo:-97.1401088,49.9016079
END:VEVENT
BEGIN:VEVENT
DTSTART;TZID=America/Winnipeg:20260306T193000
DTEND;TZID=America/Winnipeg:20260306T220000
DTSTAMP:20260423T075313
CREATED:20260213T174423Z
LAST-MODIFIED:20260213T174423Z
UID:166646-1772825400-1772834400@exchangedistrict.org
SUMMARY:First Fridays in the Exchange — Sofar Sounds: Discovery show
DESCRIPTION:Sofar Sounds is a global music community that connects artists and audiences through live music. Sofar shows transform everyday spaces — from living rooms and rooftops\, to boutiques and museums — into captivating venues for intimate gigs\, creating inclusive experiences that bring people closer together. \nFounded in London in 2009\, Sofar creates space where music matters in 400 cities around the world — and now in Winnipeg. \nDiscovery shows consist of three 20-minute sets from emerging artists\, with the location revealed only 36 hours before showtime. Only once you’ve secured your spot can you feel the anticipation. A day before the show\, you’ll receive an email from us that reveals the address and other key details. You’ll find out who the artists are when they take the mic. \nDoors open at 7:30PM\nShow starts at 8:00PM\nEnds at 10:00PM
URL:https://exchangedistrict.org/event/first-fridays-in-the-exchange-sofar-sounds-discovery-show/
CATEGORIES:Concert
ATTACH;FMTTYPE=image/jpeg:https://exchangedistrict.org/wp-content/uploads/2026/02/walkney-chicago-lorez_brewery-050719-ryan_barayuga.jpg
ORGANIZER;CN="Sofar Sounds":MAILTO:dan.kennedy@sofarsounds.com
END:VEVENT
BEGIN:VEVENT
DTSTART;TZID=America/Winnipeg:20260306T200000
DTEND;TZID=America/Winnipeg:20260307T000000
DTSTAMP:20260423T075313
CREATED:20260219T203445Z
LAST-MODIFIED:20260305T184303Z
UID:168206-1772827200-1772841600@exchangedistrict.org
SUMMARY:Sound Like Light 2026
DESCRIPTION:Returning to Lights On the Exchange is the second edition of Sound Like Light\, the festival’s signature live event\, where music\, sound\, and light collide. \n– BUY YOUR TICKETS HERE – \nThis year we’re taking over Manitoba Centennial Concert Hall’s Sound Bites Room for an immersive evening of pulsating beats\, live sound art\, musical performance\, and dynamic DJ sets\, augmented by live digital projections by festival curators Manufacturing Entertainment. \nThe evening will be anchored by music selections from a roster of DJs\, featuring Wanda G\, DJ $uraj\, and DJ Hunnicutt\, and will feature live performances by Compost (MB) and Colby Richardson (ON). \n\nCompost is nutrient rich music for a healthy body and mind. It’s the grit and grind of deep bass and decomposing blown up beats from which flowery keyboards blossom. The instrumental trio\, composed of Julian Beutel\, Eric Roberts and Justin Alcock\, references ’90s beatmakers and European electronic music\, cycling between movement and meditation. \n\nColby Richardson is a media artist\, experimental filmmaker\, and sound artist currently based in Toronto\, Ontario. He’ll be closing out the evening with Dimmer Switch\, a performance for sound and light that takes advantage of the inability of compact fluorescent light bulbs to properly dim. Exposed guitar cables are placed near and in between the bulb’s flickering coils to transform the electrical bursts into a range of percussive and piercing sounds. \nThis event is ages 18+\nDon’t miss an unforgettable collision of light\, sound\, and movement. \n– BUY YOUR TICKETS HERE – TELL ALL YOUR FRIENDS –
URL:https://exchangedistrict.org/event/sound-like-light-2026-2/
LOCATION:Sound Bites Room\, 555 Main St.\, Winnipeg\, Manitoba\, R3B 1C3\, Canada
ATTACH;FMTTYPE=image/png:https://exchangedistrict.org/wp-content/uploads/2026/01/Sound-Like-Light-banner.png
GEO:49.8994337;-97.1369916
X-APPLE-STRUCTURED-LOCATION;VALUE=URI;X-ADDRESS=Sound Bites Room 555 Main St. Winnipeg Manitoba R3B 1C3 Canada;X-APPLE-RADIUS=500;X-TITLE=555 Main St.:geo:-97.1369916,49.8994337
END:VEVENT
END:VCALENDAR