BEGIN:VCALENDAR
VERSION:2.0
PRODID:-//The Exchange District BIZ - ECPv6.15.20//NONSGML v1.0//EN
CALSCALE:GREGORIAN
METHOD:PUBLISH
X-ORIGINAL-URL:https://exchangedistrict.org
X-WR-CALDESC:Events for The Exchange District BIZ
REFRESH-INTERVAL;VALUE=DURATION:PT1H
X-Robots-Tag:noindex
X-PUBLISHED-TTL:PT1H
BEGIN:VTIMEZONE
TZID:America/Winnipeg
BEGIN:DAYLIGHT
TZOFFSETFROM:-0600
TZOFFSETTO:-0500
TZNAME:CDT
DTSTART:20250309T080000
END:DAYLIGHT
BEGIN:STANDARD
TZOFFSETFROM:-0500
TZOFFSETTO:-0600
TZNAME:CST
DTSTART:20251102T070000
END:STANDARD
BEGIN:DAYLIGHT
TZOFFSETFROM:-0600
TZOFFSETTO:-0500
TZNAME:CDT
DTSTART:20260308T080000
END:DAYLIGHT
BEGIN:STANDARD
TZOFFSETFROM:-0500
TZOFFSETTO:-0600
TZNAME:CST
DTSTART:20261101T070000
END:STANDARD
BEGIN:DAYLIGHT
TZOFFSETFROM:-0600
TZOFFSETTO:-0500
TZNAME:CDT
DTSTART:20270314T080000
END:DAYLIGHT
BEGIN:STANDARD
TZOFFSETFROM:-0500
TZOFFSETTO:-0600
TZNAME:CST
DTSTART:20271107T070000
END:STANDARD
END:VTIMEZONE
BEGIN:VEVENT
DTSTART;TZID=America/Winnipeg:20260415T120000
DTEND;TZID=America/Winnipeg:20260510T210000
DTSTAMP:20260421T103845
CREATED:20260326T163349Z
LAST-MODIFIED:20260326T163349Z
UID:169008-1776254400-1778446800@exchangedistrict.org
SUMMARY:Architecture+Design Film Festival
DESCRIPTION:Architecture + Design Film Festival 2026 \nThe Architecture + Design Film Festival (A+DFF) in Winnipeg presents critically acclaimed films focusing on the importance of architecture and design in everyday life. The films cover a range of design-oriented topics from architecture and urban design to graphics and product design. A+DFF (adff.ca) is the only Canadian festival devoted solely to architecture and design. Thanks for joining us for our fifteenth annual celebrations in 2026. \n21 films in 4 venues\, with several free noon hour screenings. The full programme is online at: adff.ca\nThe festival is presented by the Winnipeg Architecture foundation\, Dave Barber cinematheque and Urban Idea\, with support from the Exchange District Biz.
URL:https://exchangedistrict.org/event/architecturedesign-film-festival/
LOCATION:Dave Barber Cinematheque\, Arthur Street\, Winnipeg\, Winnipeg\, R3B 1H7\, Canada
CATEGORIES:Movie / Film
ATTACH;FMTTYPE=image/jpeg:https://exchangedistrict.org/wp-content/uploads/2026/03/ADFF-2026_Festival_Social_Square_07.jpg
ORGANIZER;CN="Winnipeg Architecture Foundation":MAILTO:waf@shaw.ca
GEO:49.8980272;-97.1408817
X-APPLE-STRUCTURED-LOCATION;VALUE=URI;X-ADDRESS=Dave Barber Cinematheque Arthur Street Winnipeg Winnipeg R3B 1H7 Canada;X-APPLE-RADIUS=500;X-TITLE=Arthur Street:geo:-97.1408817,49.8980272
END:VEVENT
BEGIN:VEVENT
DTSTART;TZID=America/Winnipeg:20260422T173000
DTEND;TZID=America/Winnipeg:20260422T193000
DTSTAMP:20260421T103845
CREATED:20260402T154930Z
LAST-MODIFIED:20260402T154930Z
UID:169205-1776879000-1776886200@exchangedistrict.org
SUMMARY:Creative Careers: Commercial Video
DESCRIPTION:Commercials don’t just build awareness; they shape perception and position your brand exactly where it needs to live in your audience’s minds. \nBut in a fragmented media landscape\, the real question isn’t if you should invest\, it’s how\, when\, and with who. \nWhere do commercials fit within a broader marketing mix? And how do you ensure your investment actually drives business outcomes\, not just views? \nJoin us for a conversation with industry leaders who don’t just make commercials\, they build work that moves brands forward. \nPanelists:\nScott Anderson\, Co-founder & Senior Producer\, Enjoy Creative\nLibby Lea\, Vice President\, Production\, FRANK Digital\nJordan Popowich\, Owner\, JP Media Works\nAlex Streltsov\, General Manager\, Prolex Media\nSpencer Stanley\, Owner\, Vanguard Creative \nRegistration is required.
URL:https://exchangedistrict.org/event/creative-careers-commercial-video/
LOCATION:Brandish Agency\, 101-110 Princess St\, Winnipeg\, R3B 1K7
CATEGORIES:Networking
ATTACH;FMTTYPE=image/png:https://exchangedistrict.org/wp-content/uploads/2026/04/Copy-of-3common.png
GEO:49.8983074;-97.1419777
X-APPLE-STRUCTURED-LOCATION;VALUE=URI;X-ADDRESS=Brandish Agency 101-110 Princess St Winnipeg R3B 1K7;X-APPLE-RADIUS=500;X-TITLE=101-110 Princess St:geo:-97.1419777,49.8983074
END:VEVENT
END:VCALENDAR