BEGIN:VCALENDAR
VERSION:2.0
PRODID:-//The Exchange District BIZ - ECPv6.15.20//NONSGML v1.0//EN
CALSCALE:GREGORIAN
METHOD:PUBLISH
X-WR-CALNAME:The Exchange District BIZ
X-ORIGINAL-URL:https://exchangedistrict.org
X-WR-CALDESC:Events for The Exchange District BIZ
REFRESH-INTERVAL;VALUE=DURATION:PT1H
X-Robots-Tag:noindex
X-PUBLISHED-TTL:PT1H
BEGIN:VTIMEZONE
TZID:America/Winnipeg
BEGIN:DAYLIGHT
TZOFFSETFROM:-0600
TZOFFSETTO:-0500
TZNAME:CDT
DTSTART:20250309T080000
END:DAYLIGHT
BEGIN:STANDARD
TZOFFSETFROM:-0500
TZOFFSETTO:-0600
TZNAME:CST
DTSTART:20251102T070000
END:STANDARD
BEGIN:DAYLIGHT
TZOFFSETFROM:-0600
TZOFFSETTO:-0500
TZNAME:CDT
DTSTART:20260308T080000
END:DAYLIGHT
BEGIN:STANDARD
TZOFFSETFROM:-0500
TZOFFSETTO:-0600
TZNAME:CST
DTSTART:20261101T070000
END:STANDARD
BEGIN:DAYLIGHT
TZOFFSETFROM:-0600
TZOFFSETTO:-0500
TZNAME:CDT
DTSTART:20270314T080000
END:DAYLIGHT
BEGIN:STANDARD
TZOFFSETFROM:-0500
TZOFFSETTO:-0600
TZNAME:CST
DTSTART:20271107T070000
END:STANDARD
END:VTIMEZONE
BEGIN:VEVENT
DTSTART;VALUE=DATE:20260114
DTEND;VALUE=DATE:20260208
DTSTAMP:20260423T074340
CREATED:20251007T143747Z
LAST-MODIFIED:20251007T143747Z
UID:122993-1768348800-1770508799@exchangedistrict.org
SUMMARY:Agatha Christie’s Murder on the Orient Express
DESCRIPTION:“A first-class ride all the way” – The Guardian \n“An ensemble drama with an irresistible hook…deft and masterful” Broadway World \nShowcasing the Queen of Crime’s signature twists and turns\, and a luxury train onstage\, this light-hearted adaptation keeps us guessing until Hercule Poirot delivers his breathtaking verdict. \nDetective Hercule Poirot is aboard the Orient Express when an unlikeable wealthy American is murdered. As the debonair detective investigates\, he encounters a cast of intriguing passengers\, including the glamorous Mrs. Hubbard and the enigmatic Princess Dragomiroff. With his unparalleled eye for detail and keen instincts\, Poirot uncovers secrets and motives as he seeks the truth behind the murder in this suspenseful tale of deception\, revenge and justice.
URL:https://exchangedistrict.org/event/agatha-christies-murder-on-the-orient-express/
LOCATION:174 Market Avenue\, 174 Market Avenue\, Winnipeg\, R3B 0T9
CATEGORIES:Performing Arts
ATTACH;FMTTYPE=image/jpeg:https://exchangedistrict.org/wp-content/uploads/2025/10/RMTC_Carosel-4_Murder_Express_1200x1200_v2.jpg
GEO:49.8984832;-97.13675
X-APPLE-STRUCTURED-LOCATION;VALUE=URI;X-ADDRESS=174 Market Avenue 174 Market Avenue Winnipeg R3B 0T9;X-APPLE-RADIUS=500;X-TITLE=174 Market Avenue:geo:-97.13675,49.8984832
END:VEVENT
BEGIN:VEVENT
DTSTART;VALUE=DATE:20260117
DTEND;VALUE=DATE:20260222
DTSTAMP:20260423T074340
CREATED:20260113T164404Z
LAST-MODIFIED:20260113T164404Z
UID:163905-1768608000-1771718399@exchangedistrict.org
SUMMARY:Nine Perspectives: An art exhibition by 9 rural and northern Manitoba artists
DESCRIPTION:Nine Perspectives brings together new work by nine artists from rural and northern Manitoba who participated in a six-month group mentorship and exhibition program through the Manitoba Arts Network. \nThe exhibition reflects a wide range of materials\, themes\, and approaches\, while emphasizing cohesion\, intention\, and professional presentation. Artists were supported in developing bodies of work that speak clearly to their practice\, explore consistency across multiple pieces\, and prepare their work for commercial and gallery contexts. \nExhibition Runs: \nJanuary 17 – February 21\, 2026 \nOpening Reception: \nSaturday\, January 17\, 2026
URL:https://exchangedistrict.org/event/nine-perspectives-an-art-exhibition-by-9-rural-and-northern-manitoba-artists/
LOCATION:210 Gallery\, 210 Princess Street\, Winnipeg\, R3B1L4
ATTACH;FMTTYPE=image/png:https://exchangedistrict.org/wp-content/uploads/2026/01/Screenshot-2026-01-13-at-10.35.18-AM.png
ORGANIZER;CN="210 Gallery":MAILTO:marketing@mbartsnet.ca
GEO:49.9016079;-97.1401088
X-APPLE-STRUCTURED-LOCATION;VALUE=URI;X-ADDRESS=210 Gallery 210 Princess Street Winnipeg R3B1L4;X-APPLE-RADIUS=500;X-TITLE=210 Princess Street:geo:-97.1401088,49.9016079
END:VEVENT
BEGIN:VEVENT
DTSTART;VALUE=DATE:20260204
DTEND;VALUE=DATE:20260222
DTSTAMP:20260423T074340
CREATED:20251120T204236Z
LAST-MODIFIED:20251120T204236Z
UID:161094-1770163200-1771718399@exchangedistrict.org
SUMMARY:Holland
DESCRIPTION:“Wow\, I think I signed less paperwork when we bought a house.” – Carrie \nThis world premiere is a hilarious madcap adventure\, an unflinching look at disability rights and a love letter to everyday heroes who will do anything for their people. \nCarrie and Paul are good people with solid friends and great kids. Another constant in their life is Alice\, an antagonistic social worker who holds all the cards when it comes to their disabled son. Alice makes promises but keeps few\, drowning the couple in paperwork\, denying basic services and bewildering them with impossible deadlines. Pushed to the brink\, Carrie takes matters into her own hands – in the most outrageous way possible – and goes from doing everything for her family to risking it all.
URL:https://exchangedistrict.org/event/holland/
LOCATION:140 Rupert Ave\, 140 Rupert Ave\, Winnipeg\, R3B 0T9
CATEGORIES:Performing Arts
ATTACH;FMTTYPE=image/jpeg:https://exchangedistrict.org/wp-content/uploads/2025/11/RMTC_Carosel-3_Holland_1200x1200_v2.jpg
GEO:49.8996952;-97.1347094
X-APPLE-STRUCTURED-LOCATION;VALUE=URI;X-ADDRESS=140 Rupert Ave 140 Rupert Ave Winnipeg R3B 0T9;X-APPLE-RADIUS=500;X-TITLE=140 Rupert Ave:geo:-97.1347094,49.8996952
END:VEVENT
BEGIN:VEVENT
DTSTART;VALUE=DATE:20260206
DTEND;VALUE=DATE:20260207
DTSTAMP:20260423T074340
CREATED:20260113T174202Z
LAST-MODIFIED:20260206T215811Z
UID:163929-1770336000-1770422399@exchangedistrict.org
SUMMARY:Lights On the Exchange - Guided Walking Tour
DESCRIPTION:The best way to experience all the artwork on display at Lights On the Exchange is through one of our guided walking tours. Join our tour host\, starting at 201 Portage Avenue\, for a walk through the Exchange\, taking in all 24 installation artworks along the way\, ending back at at the Exchange BIZ office for a warm up and live poetry reading as part of the Poet Box v.4. \nTour 1 – February 6 @ 6:00PM\nTour 2 – February 6 @ 7:00PM\nTour 3 – March 6 @ 6:30PM\nTour 4 – March 6 @ 7:30PM \nOur guided walking tours are open to individuals\, groups\, and people of all ages. \n(Please note that the live poetry reading will only occur on the February 6 tours. Tours in March will feature pre-recorded readings)
URL:https://exchangedistrict.org/event/lights-on-the-exchange-guided-walking-tour/2026-02-06/
LOCATION:201 Portage Lobby\, 201 Portage Avenue\, Winnipeg\, R3B 3K6
CATEGORIES:Exhibit,Tour
ATTACH;FMTTYPE=image/png:https://exchangedistrict.org/wp-content/uploads/2026/01/Tour-banner-A.png
ORGANIZER;CN="Exchange District BIZ":MAILTO:info@exchangedistrict.org
GEO:49.8957545;-97.1392545
X-APPLE-STRUCTURED-LOCATION;VALUE=URI;X-ADDRESS=201 Portage Lobby 201 Portage Avenue Winnipeg R3B 3K6;X-APPLE-RADIUS=500;X-TITLE=201 Portage Avenue:geo:-97.1392545,49.8957545
END:VEVENT
BEGIN:VEVENT
DTSTART;TZID=America/Winnipeg:20260213T140000
DTEND;TZID=America/Winnipeg:20260213T180000
DTSTAMP:20260423T074340
CREATED:20260107T194511Z
LAST-MODIFIED:20260107T194511Z
UID:163427-1770991200-1771005600@exchangedistrict.org
SUMMARY:VP Media Arts Centre Open House
DESCRIPTION:Step inside the spaces designed to support your next event\, workshop\, or artistic\nvision. \nWINNIPEG\, MB | – Video Pool Media Arts Centre invites arts organizations\, community\ngroups\, and creative professionals to join us for a special Open House on February 13\, 2026\, from 2:00 PM to\n6:00 PM. This afternoon event offers an opportunity to explore The Output and The Pivot\, meet the VP team\,\nand discover how our spaces\, equipment\, and expertise can support your next project\, program\, or\ncommunity initiative. Snacks and beverages will be served. \nAs Manitoba’s only artist-run centre dedicated to technology-based art\, Video Pool is committed to\nsupporting experimental practices across disciplines. Through accessible resources\, sliding-scale rental\noptions\, and a focus on digital and media arts\, VP provides spaces where ideas can grow and creative\nvisions can be realized. \nEvent Details\nTitle: VP Media Arts Centre Open House\nDate: February 13\, 2026\nTime: 2:00 – 6:00 PM\nLocations: Video Pool Media Arts Centre\, Second Floor\, 100 Arthur Street\, Artspace Building \nVisitors are welcome to drop in at any time during Open House hours. \nWhat to Expect\nAttendees will have the opportunity to:\nTour The Output\, VP’s accessible non-profit performance and event venue.\nVisit The Pivot\, VP’s multipurpose workshop\, meeting\, and creative production space.\nMeet Video Pool staff and learn about available technical support.\nExplore rental options\, sliding-scale rates\, and technical capabilities.\nAsk questions and connect with other organizations working in arts\, culture\, and community programming\nAn Info Kit will be available on-site\, containing details on space specifications\, equipment\, rates\, and booking\nprocedures. \nMedia & Contact Information\nShereen Ramprashad\nvenue@videopool.org \nFor more information\, please visit: https://videopool.org/rentals-home/ \nAbout Video Pool Media Arts Centre\nVideo Pool Media Arts Centre inspires curiosity and creative expression through the open exploration of\ntechnology in all media art forms. As Manitoba’s only artist-run centre dedicated exclusively to technology-\nbased art\, VP supports experimental practices through presentation\, production\, distribution\, and education.\nVP is proud to offer community-centred spaces like The Output and The Pivot\, making media arts accessible\nto creators\, organizations\, and audiences across Winnipeg.
URL:https://exchangedistrict.org/event/vp-media-arts-centre-open-house/
LOCATION:100 Arthur St.\, 100 Arthur St.\, Winnipeg\, R3B1H3
CATEGORIES:Networking,Performing Arts,Tour
ATTACH;FMTTYPE=image/png:https://exchangedistrict.org/wp-content/uploads/2026/01/PH-press-release-image-January-07-2026-at-12.18.17.png
ORGANIZER;CN="Video Pool Media Arts Centre":MAILTO:info@videopool.org
GEO:49.8980272;-97.1408817
X-APPLE-STRUCTURED-LOCATION;VALUE=URI;X-ADDRESS=100 Arthur St. 100 Arthur St. Winnipeg R3B1H3;X-APPLE-RADIUS=500;X-TITLE=100 Arthur St.:geo:-97.1408817,49.8980272
END:VEVENT
BEGIN:VEVENT
DTSTART;VALUE=DATE:20260218
DTEND;VALUE=DATE:20260315
DTSTAMP:20260423T074340
CREATED:20251007T144948Z
LAST-MODIFIED:20251007T144948Z
UID:123001-1771372800-1773532799@exchangedistrict.org
SUMMARY:Rovers v. Rogers
DESCRIPTION:“If you’ve got a vision\, never give up control.” – Ted Rogers \nA David vs. Goliath story for a new age\, Rogers v. Rogers examines the merits of fighting back\, the cost of ambition\, and the complicated legacy of love and defiance in the shadow of power. \nTelecom tycoon Ted Rogers spent a lifetime turning Canada’s airwaves into money — and a company into a virtual monopoly. Now his son Edward is fighting to take control of the family empire. At the same time\, a wily public servant is determined to block a billion-dollar merger. Ambition\, defiance and public interest collide in a battle of wills.
URL:https://exchangedistrict.org/event/rovers-v-rogers/
LOCATION:174 Market Avenue\, 174 Market Avenue\, Winnipeg\, R3B 0T9
CATEGORIES:Performing Arts
ATTACH;FMTTYPE=image/jpeg:https://exchangedistrict.org/wp-content/uploads/2025/10/RMTC_Carosel-3_RogerVsRoger_1200x1200_v2.jpg
GEO:49.8984832;-97.13675
X-APPLE-STRUCTURED-LOCATION;VALUE=URI;X-ADDRESS=174 Market Avenue 174 Market Avenue Winnipeg R3B 0T9;X-APPLE-RADIUS=500;X-TITLE=174 Market Avenue:geo:-97.13675,49.8984832
END:VEVENT
BEGIN:VEVENT
DTSTART;TZID=America/Winnipeg:20260219T100000
DTEND;TZID=America/Winnipeg:20260219T170000
DTSTAMP:20260423T074340
CREATED:20260121T171824Z
LAST-MODIFIED:20260121T171824Z
UID:164177-1771495200-1771520400@exchangedistrict.org
SUMMARY:Duo Exhibition by Sue Gordon and Aliana Au: Steadfast / Changing Light
DESCRIPTION:Soul Gallery is pleased to present STEADFAST / CHANGING LIGHT\, a duo exhibition by artists Sue Gordon and Aliana Au. The exhibition will run from February 19 to March 7\, 2026. \nOpening reception to be held Thursday\, February 19\, from 6-9PM. Refreshments will be provided and the artists will be in attendance.
URL:https://exchangedistrict.org/event/duo-exhibition-by-sue-gordon-and-aliana-au-steadfast-changing-light/2026-02-19/
LOCATION:65 Albert St\, Albert Street\, Winnipeg\, Manitoba\, R3B 1G3\, Canada
CATEGORIES:Exhibit
ATTACH;FMTTYPE=image/png:https://exchangedistrict.org/wp-content/uploads/2026/01/Poster-PNG.png
ORGANIZER;CN="Soul Gallery":MAILTO:julie.soulgallery@gmail.com
GEO:49.8966328;-97.1401178
X-APPLE-STRUCTURED-LOCATION;VALUE=URI;X-ADDRESS=65 Albert St Albert Street Winnipeg Manitoba R3B 1G3 Canada;X-APPLE-RADIUS=500;X-TITLE=Albert Street:geo:-97.1401178,49.8966328
END:VEVENT
BEGIN:VEVENT
DTSTART;TZID=America/Winnipeg:20260220T100000
DTEND;TZID=America/Winnipeg:20260220T170000
DTSTAMP:20260423T074340
CREATED:20260121T171825Z
LAST-MODIFIED:20260121T171825Z
UID:164180-1771581600-1771606800@exchangedistrict.org
SUMMARY:Duo Exhibition by Sue Gordon and Aliana Au: Steadfast / Changing Light
DESCRIPTION:Soul Gallery is pleased to present STEADFAST / CHANGING LIGHT\, a duo exhibition by artists Sue Gordon and Aliana Au. The exhibition will run from February 19 to March 7\, 2026. \nOpening reception to be held Thursday\, February 19\, from 6-9PM. Refreshments will be provided and the artists will be in attendance.
URL:https://exchangedistrict.org/event/duo-exhibition-by-sue-gordon-and-aliana-au-steadfast-changing-light/2026-02-20/
LOCATION:65 Albert St\, Albert Street\, Winnipeg\, Manitoba\, R3B 1G3\, Canada
CATEGORIES:Exhibit
ATTACH;FMTTYPE=image/png:https://exchangedistrict.org/wp-content/uploads/2026/01/Poster-PNG.png
ORGANIZER;CN="Soul Gallery":MAILTO:julie.soulgallery@gmail.com
GEO:49.8966328;-97.1401178
X-APPLE-STRUCTURED-LOCATION;VALUE=URI;X-ADDRESS=65 Albert St Albert Street Winnipeg Manitoba R3B 1G3 Canada;X-APPLE-RADIUS=500;X-TITLE=Albert Street:geo:-97.1401178,49.8966328
END:VEVENT
BEGIN:VEVENT
DTSTART;TZID=America/Winnipeg:20260221T100000
DTEND;TZID=America/Winnipeg:20260221T170000
DTSTAMP:20260423T074340
CREATED:20260121T171825Z
LAST-MODIFIED:20260121T171825Z
UID:164181-1771668000-1771693200@exchangedistrict.org
SUMMARY:Duo Exhibition by Sue Gordon and Aliana Au: Steadfast / Changing Light
DESCRIPTION:Soul Gallery is pleased to present STEADFAST / CHANGING LIGHT\, a duo exhibition by artists Sue Gordon and Aliana Au. The exhibition will run from February 19 to March 7\, 2026. \nOpening reception to be held Thursday\, February 19\, from 6-9PM. Refreshments will be provided and the artists will be in attendance.
URL:https://exchangedistrict.org/event/duo-exhibition-by-sue-gordon-and-aliana-au-steadfast-changing-light/2026-02-21/
LOCATION:65 Albert St\, Albert Street\, Winnipeg\, Manitoba\, R3B 1G3\, Canada
CATEGORIES:Exhibit
ATTACH;FMTTYPE=image/png:https://exchangedistrict.org/wp-content/uploads/2026/01/Poster-PNG.png
ORGANIZER;CN="Soul Gallery":MAILTO:julie.soulgallery@gmail.com
GEO:49.8966328;-97.1401178
X-APPLE-STRUCTURED-LOCATION;VALUE=URI;X-ADDRESS=65 Albert St Albert Street Winnipeg Manitoba R3B 1G3 Canada;X-APPLE-RADIUS=500;X-TITLE=Albert Street:geo:-97.1401178,49.8966328
END:VEVENT
BEGIN:VEVENT
DTSTART;TZID=America/Winnipeg:20260222T100000
DTEND;TZID=America/Winnipeg:20260222T170000
DTSTAMP:20260423T074340
CREATED:20260121T171826Z
LAST-MODIFIED:20260121T171826Z
UID:164182-1771754400-1771779600@exchangedistrict.org
SUMMARY:Duo Exhibition by Sue Gordon and Aliana Au: Steadfast / Changing Light
DESCRIPTION:Soul Gallery is pleased to present STEADFAST / CHANGING LIGHT\, a duo exhibition by artists Sue Gordon and Aliana Au. The exhibition will run from February 19 to March 7\, 2026. \nOpening reception to be held Thursday\, February 19\, from 6-9PM. Refreshments will be provided and the artists will be in attendance.
URL:https://exchangedistrict.org/event/duo-exhibition-by-sue-gordon-and-aliana-au-steadfast-changing-light/2026-02-22/
LOCATION:65 Albert St\, Albert Street\, Winnipeg\, Manitoba\, R3B 1G3\, Canada
CATEGORIES:Exhibit
ATTACH;FMTTYPE=image/png:https://exchangedistrict.org/wp-content/uploads/2026/01/Poster-PNG.png
ORGANIZER;CN="Soul Gallery":MAILTO:julie.soulgallery@gmail.com
GEO:49.8966328;-97.1401178
X-APPLE-STRUCTURED-LOCATION;VALUE=URI;X-ADDRESS=65 Albert St Albert Street Winnipeg Manitoba R3B 1G3 Canada;X-APPLE-RADIUS=500;X-TITLE=Albert Street:geo:-97.1401178,49.8966328
END:VEVENT
BEGIN:VEVENT
DTSTART;TZID=America/Winnipeg:20260223T100000
DTEND;TZID=America/Winnipeg:20260223T170000
DTSTAMP:20260423T074340
CREATED:20260121T171826Z
LAST-MODIFIED:20260121T171826Z
UID:164183-1771840800-1771866000@exchangedistrict.org
SUMMARY:Duo Exhibition by Sue Gordon and Aliana Au: Steadfast / Changing Light
DESCRIPTION:Soul Gallery is pleased to present STEADFAST / CHANGING LIGHT\, a duo exhibition by artists Sue Gordon and Aliana Au. The exhibition will run from February 19 to March 7\, 2026. \nOpening reception to be held Thursday\, February 19\, from 6-9PM. Refreshments will be provided and the artists will be in attendance.
URL:https://exchangedistrict.org/event/duo-exhibition-by-sue-gordon-and-aliana-au-steadfast-changing-light/2026-02-23/
LOCATION:65 Albert St\, Albert Street\, Winnipeg\, Manitoba\, R3B 1G3\, Canada
CATEGORIES:Exhibit
ATTACH;FMTTYPE=image/png:https://exchangedistrict.org/wp-content/uploads/2026/01/Poster-PNG.png
ORGANIZER;CN="Soul Gallery":MAILTO:julie.soulgallery@gmail.com
GEO:49.8966328;-97.1401178
X-APPLE-STRUCTURED-LOCATION;VALUE=URI;X-ADDRESS=65 Albert St Albert Street Winnipeg Manitoba R3B 1G3 Canada;X-APPLE-RADIUS=500;X-TITLE=Albert Street:geo:-97.1401178,49.8966328
END:VEVENT
BEGIN:VEVENT
DTSTART;TZID=America/Winnipeg:20260224T100000
DTEND;TZID=America/Winnipeg:20260224T170000
DTSTAMP:20260423T074340
CREATED:20260121T171827Z
LAST-MODIFIED:20260121T171827Z
UID:164184-1771927200-1771952400@exchangedistrict.org
SUMMARY:Duo Exhibition by Sue Gordon and Aliana Au: Steadfast / Changing Light
DESCRIPTION:Soul Gallery is pleased to present STEADFAST / CHANGING LIGHT\, a duo exhibition by artists Sue Gordon and Aliana Au. The exhibition will run from February 19 to March 7\, 2026. \nOpening reception to be held Thursday\, February 19\, from 6-9PM. Refreshments will be provided and the artists will be in attendance.
URL:https://exchangedistrict.org/event/duo-exhibition-by-sue-gordon-and-aliana-au-steadfast-changing-light/2026-02-24/
LOCATION:65 Albert St\, Albert Street\, Winnipeg\, Manitoba\, R3B 1G3\, Canada
CATEGORIES:Exhibit
ATTACH;FMTTYPE=image/png:https://exchangedistrict.org/wp-content/uploads/2026/01/Poster-PNG.png
ORGANIZER;CN="Soul Gallery":MAILTO:julie.soulgallery@gmail.com
GEO:49.8966328;-97.1401178
X-APPLE-STRUCTURED-LOCATION;VALUE=URI;X-ADDRESS=65 Albert St Albert Street Winnipeg Manitoba R3B 1G3 Canada;X-APPLE-RADIUS=500;X-TITLE=Albert Street:geo:-97.1401178,49.8966328
END:VEVENT
BEGIN:VEVENT
DTSTART;TZID=America/Winnipeg:20260225T100000
DTEND;TZID=America/Winnipeg:20260225T170000
DTSTAMP:20260423T074340
CREATED:20260121T171827Z
LAST-MODIFIED:20260121T171827Z
UID:164185-1772013600-1772038800@exchangedistrict.org
SUMMARY:Duo Exhibition by Sue Gordon and Aliana Au: Steadfast / Changing Light
DESCRIPTION:Soul Gallery is pleased to present STEADFAST / CHANGING LIGHT\, a duo exhibition by artists Sue Gordon and Aliana Au. The exhibition will run from February 19 to March 7\, 2026. \nOpening reception to be held Thursday\, February 19\, from 6-9PM. Refreshments will be provided and the artists will be in attendance.
URL:https://exchangedistrict.org/event/duo-exhibition-by-sue-gordon-and-aliana-au-steadfast-changing-light/2026-02-25/
LOCATION:65 Albert St\, Albert Street\, Winnipeg\, Manitoba\, R3B 1G3\, Canada
CATEGORIES:Exhibit
ATTACH;FMTTYPE=image/png:https://exchangedistrict.org/wp-content/uploads/2026/01/Poster-PNG.png
ORGANIZER;CN="Soul Gallery":MAILTO:julie.soulgallery@gmail.com
GEO:49.8966328;-97.1401178
X-APPLE-STRUCTURED-LOCATION;VALUE=URI;X-ADDRESS=65 Albert St Albert Street Winnipeg Manitoba R3B 1G3 Canada;X-APPLE-RADIUS=500;X-TITLE=Albert Street:geo:-97.1401178,49.8966328
END:VEVENT
BEGIN:VEVENT
DTSTART;TZID=America/Winnipeg:20260226T100000
DTEND;TZID=America/Winnipeg:20260226T170000
DTSTAMP:20260423T074340
CREATED:20260121T171827Z
LAST-MODIFIED:20260121T171827Z
UID:164186-1772100000-1772125200@exchangedistrict.org
SUMMARY:Duo Exhibition by Sue Gordon and Aliana Au: Steadfast / Changing Light
DESCRIPTION:Soul Gallery is pleased to present STEADFAST / CHANGING LIGHT\, a duo exhibition by artists Sue Gordon and Aliana Au. The exhibition will run from February 19 to March 7\, 2026. \nOpening reception to be held Thursday\, February 19\, from 6-9PM. Refreshments will be provided and the artists will be in attendance.
URL:https://exchangedistrict.org/event/duo-exhibition-by-sue-gordon-and-aliana-au-steadfast-changing-light/2026-02-26/
LOCATION:65 Albert St\, Albert Street\, Winnipeg\, Manitoba\, R3B 1G3\, Canada
CATEGORIES:Exhibit
ATTACH;FMTTYPE=image/png:https://exchangedistrict.org/wp-content/uploads/2026/01/Poster-PNG.png
ORGANIZER;CN="Soul Gallery":MAILTO:julie.soulgallery@gmail.com
GEO:49.8966328;-97.1401178
X-APPLE-STRUCTURED-LOCATION;VALUE=URI;X-ADDRESS=65 Albert St Albert Street Winnipeg Manitoba R3B 1G3 Canada;X-APPLE-RADIUS=500;X-TITLE=Albert Street:geo:-97.1401178,49.8966328
END:VEVENT
BEGIN:VEVENT
DTSTART;TZID=America/Winnipeg:20260227T100000
DTEND;TZID=America/Winnipeg:20260227T170000
DTSTAMP:20260423T074340
CREATED:20260121T171828Z
LAST-MODIFIED:20260121T171828Z
UID:164187-1772186400-1772211600@exchangedistrict.org
SUMMARY:Duo Exhibition by Sue Gordon and Aliana Au: Steadfast / Changing Light
DESCRIPTION:Soul Gallery is pleased to present STEADFAST / CHANGING LIGHT\, a duo exhibition by artists Sue Gordon and Aliana Au. The exhibition will run from February 19 to March 7\, 2026. \nOpening reception to be held Thursday\, February 19\, from 6-9PM. Refreshments will be provided and the artists will be in attendance.
URL:https://exchangedistrict.org/event/duo-exhibition-by-sue-gordon-and-aliana-au-steadfast-changing-light/2026-02-27/
LOCATION:65 Albert St\, Albert Street\, Winnipeg\, Manitoba\, R3B 1G3\, Canada
CATEGORIES:Exhibit
ATTACH;FMTTYPE=image/png:https://exchangedistrict.org/wp-content/uploads/2026/01/Poster-PNG.png
ORGANIZER;CN="Soul Gallery":MAILTO:julie.soulgallery@gmail.com
GEO:49.8966328;-97.1401178
X-APPLE-STRUCTURED-LOCATION;VALUE=URI;X-ADDRESS=65 Albert St Albert Street Winnipeg Manitoba R3B 1G3 Canada;X-APPLE-RADIUS=500;X-TITLE=Albert Street:geo:-97.1401178,49.8966328
END:VEVENT
BEGIN:VEVENT
DTSTART;TZID=America/Winnipeg:20260228T100000
DTEND;TZID=America/Winnipeg:20260228T170000
DTSTAMP:20260423T074340
CREATED:20260121T171828Z
LAST-MODIFIED:20260121T171828Z
UID:164188-1772272800-1772298000@exchangedistrict.org
SUMMARY:Duo Exhibition by Sue Gordon and Aliana Au: Steadfast / Changing Light
DESCRIPTION:Soul Gallery is pleased to present STEADFAST / CHANGING LIGHT\, a duo exhibition by artists Sue Gordon and Aliana Au. The exhibition will run from February 19 to March 7\, 2026. \nOpening reception to be held Thursday\, February 19\, from 6-9PM. Refreshments will be provided and the artists will be in attendance.
URL:https://exchangedistrict.org/event/duo-exhibition-by-sue-gordon-and-aliana-au-steadfast-changing-light/2026-02-28/
LOCATION:65 Albert St\, Albert Street\, Winnipeg\, Manitoba\, R3B 1G3\, Canada
CATEGORIES:Exhibit
ATTACH;FMTTYPE=image/png:https://exchangedistrict.org/wp-content/uploads/2026/01/Poster-PNG.png
ORGANIZER;CN="Soul Gallery":MAILTO:julie.soulgallery@gmail.com
GEO:49.8966328;-97.1401178
X-APPLE-STRUCTURED-LOCATION;VALUE=URI;X-ADDRESS=65 Albert St Albert Street Winnipeg Manitoba R3B 1G3 Canada;X-APPLE-RADIUS=500;X-TITLE=Albert Street:geo:-97.1401178,49.8966328
END:VEVENT
END:VCALENDAR